BEGIN:VCALENDAR
VERSION:2.0
PRODID:-//Date iCal//NONSGML kigkonsult.se iCalcreator 2.20.2//
METHOD:PUBLISH
X-WR-CALNAME;VALUE=TEXT:Event Calendar
BEGIN:VEVENT
UID:calendar.32757.field_event_date.0@debspark.audubon.org
DTSTAMP:20210428T065632Z
CREATED:20200311T214917Z
DESCRIPTION:Yes\, 'birding' is a verb!\n  Saturday\, September 17\, 2022 - 
 \n08:00 to 09:30
DTSTART:20220917T080000Z
DTEND:20220917T093000Z
LAST-MODIFIED:20200617T124615Z
LOCATION:4700 N Griffin Ave\, Los Angeles\, California\, 90031\, United Sta
 tes
SUMMARY:CANCELLED: Community Bird Walk
URL;TYPE=URI:https://debspark.audubon.org/events/cancelled-community-bird-w
 alk-48
END:VEVENT
END:VCALENDAR
